BEGIN:VCALENDAR
VERSION:2.0
PRODID:-//Superfounders - ECPv5.2.0//NONSGML v1.0//EN
CALSCALE:GREGORIAN
METHOD:PUBLISH
X-WR-CALNAME:Superfounders
X-ORIGINAL-URL:http://superfounders.org
X-WR-CALDESC:Events for Superfounders
BEGIN:VTIMEZONE
TZID:UTC
BEGIN:STANDARD
TZOFFSETFROM:+0000
TZOFFSETTO:+0000
TZNAME:UTC
DTSTART:20160101T000000
END:STANDARD
END:VTIMEZONE
BEGIN:VEVENT
DTSTART;VALUE=DATE:20161025
DTEND;VALUE=DATE:20161026
DTSTAMP:20260421T135019
CREATED:20161018T113854Z
LAST-MODIFIED:20161025T141155Z
UID:22352-1477353600-1477439999@superfounders.org
SUMMARY:Founderbeam Croatia & SEE - Game Changer
DESCRIPTION:Do you have a business idea or product that needs funding? Do you want to learn how fundraising for early stage businesses and products works & what you need to do before trying to raise funding? Then join us for this workshop were we will present overview of different investment options with premiere presentation for Croatian startups – what is Founderbeam and how it will work when it starts in beginning of 2017? Learn expert tips\, big pitfalls to avoid\, what investors are looking for\, how equity works\, and more from Ivana Šoljan\, Co-Founder of HUB385 and Partner in Founderbeam Croatia – JV operation between Founderbeam (Estonia)\, Zagreb Stock Exchange (Croatia) and HUB385 (Croatia).
URL:http://superfounders.org/events/founderbeam-croatia-see-game-changer/
LOCATION:HUB385\, Petračićeva ulica 4\, Zagreb\, Croatia (Local Name: Hrvatska)
CATEGORIES:Worskop
ATTACH;FMTTYPE=image/jpeg:http://superfounders.org/wp-content/uploads/2016/10/founderbeam.jpg
END:VEVENT
END:VCALENDAR