BEGIN:VCALENDAR
VERSION:2.0
PRODID:-//Superfounders - ECPv5.2.0//NONSGML v1.0//EN
CALSCALE:GREGORIAN
METHOD:PUBLISH
X-WR-CALNAME:Superfounders
X-ORIGINAL-URL:http://superfounders.org
X-WR-CALDESC:Events for Superfounders
BEGIN:VTIMEZONE
TZID:UTC
BEGIN:STANDARD
TZOFFSETFROM:+0000
TZOFFSETTO:+0000
TZNAME:UTC
DTSTART:20160101T000000
END:STANDARD
END:VTIMEZONE
BEGIN:VEVENT
DTSTART;TZID=UTC:20161021T080000
DTEND;TZID=UTC:20161023T170000
DTSTAMP:20260421T153643
CREATED:20161021T102743Z
LAST-MODIFIED:20161022T143303Z
UID:22501-1477036800-1477242000@superfounders.org
SUMMARY:FLOSSK Free Libre Open Source Software Kosovo
DESCRIPTION:The further mission of the FLOSS Kosova is to empower and engage people around the world to collect and develop educational content under a free license or in the public domain\, and to disseminate it effectively and globally. \nFLOSS Kosova will provide the essential infrastructure and an organizational framework for the support and development of open knowledge and software projects and other endeavors which serve this mission. FLOSS Kosova will make and keep useful information from its projects available on the Internet free of charge\, in perpetuity. \nThe term Free and Open Source Software and Knowledge in the sense of the FLOSS does not refer to the price\, but rather to the following four freedoms: \n* The freedom to use a program and knowledge for any purpose\n* The freedom to study the program and knowledge and adapt it to your own needs.\n* The freedom to make copies for others.\n* The freedom to improve a program and knowledge and make these improvements available to others\, so that the whole community benefits. \nThis definition of Free Software goes back to the idea of freely exchanging knowledge and ideas that can traditionally be found in scientific fields. Like thoughts\, software is non-tangible and duplicable without loss. Passing feeds an evolutionary process\, advancing thoughts and software. \nIf you want to get involved in the day-to-day activities of the organization and help out you’ll find us here.
URL:http://superfounders.org/events/flossk-free-libre-open-source-software-kosova/
LOCATION:Prishtina Hackerspace\, Ganimete Tërbeshi Str\, No. \, Prishtina
CATEGORIES:Conference
ATTACH;FMTTYPE=image/jpeg:http://superfounders.org/wp-content/uploads/2016/10/kosovo.jpg
END:VEVENT
END:VCALENDAR