BEGIN:VCALENDAR
VERSION:2.0
PRODID:-//Superfounders - ECPv5.2.0//NONSGML v1.0//EN
CALSCALE:GREGORIAN
METHOD:PUBLISH
X-WR-CALNAME:Superfounders
X-ORIGINAL-URL:http://superfounders.org
X-WR-CALDESC:Events for Superfounders
BEGIN:VTIMEZONE
TZID:Europe/Athens
BEGIN:DAYLIGHT
TZOFFSETFROM:+0200
TZOFFSETTO:+0300
TZNAME:EEST
DTSTART:20180325T010000
END:DAYLIGHT
BEGIN:STANDARD
TZOFFSETFROM:+0300
TZOFFSETTO:+0200
TZNAME:EET
DTSTART:20181028T010000
END:STANDARD
END:VTIMEZONE
BEGIN:VEVENT
DTSTART;TZID=Europe/Athens:20181204T173000
DTEND;TZID=Europe/Athens:20181207T210000
DTSTAMP:20260421T163700
CREATED:20181204T091402Z
LAST-MODIFIED:20181205T105515Z
UID:27328-1543944600-1544216400@superfounders.org
SUMMARY:Exclusive Digital Marketing & Marketing Plan 2019 - Greece
DESCRIPTION:The Center for Entrepreneurship Development and Innovation organizes the specially designed 4-day program that meets the professional requirements of Digital Marketing and Marketing Plan | Marketing Plan\, ” Exclusive Digital Marketing & Marketing Plan 2019 “. \nPractical Program for Digital Marketing & Create a Marketing Plan. Strategic Content Development\, Budgeting\, Social Media Strategy & Communication Techniques. \nIt is aimed at :\n• Marketing and communication professionals.\n• Employees/executives of small and medium-sized enterprises wishing to further develop their business (in Greece or internationally).\n• Freelancers to develop their products and services.\n• Students/faculty graduates – regardless of their specialty – to enhance their resume and acquire professional skills.\n• New entrepreneurs looking for effective ways to promote products and services. \nThe whole subject will be done at the laboratory level\, with practical examples. \nMore details about the Program’s theme: \nDay 1 Tuesday (04.12.2018) – (17:30 – 21:00)\n* Digital Marketing\n* Digital Marketing Plan & Strategy\n* Content Marketing Plan\n* Social Media Marketing Plan\nDay 2 Wednesday (05.12.2018) (17:30 – 21:00)\n* Websites & SEO Content\, Tips & Word Search Techniques\n* Email Action Planning\n* Risk Management in Budgeting The Risk in Writing Budget\nDay 3 Thursday (06/12/2018) – (17:30 – 21:00)\n* Social Media Marketing Part A:\n* Facebook\n* Instagram\n* Pinterest\nDay 4 Friday (07/12/2018) – (17:30 – 21:00)\n* Social Media Marketing Part B:\n* LinkedIn & Twitter Blog Writing Skills\n*Consumer Buying Decisions (Digital Channels)\n*Search & Analyze Competitors\n*Analytics for All Platforms\n \n€120 (Early Bird έως 30.11)\n€200 Booking \nNecessary pre-registration . \nRapporteur: Gerasimos Tzamarelata\, Ph.D\nGerasimos Tzamarelata\, Ph.D. holds a Doctoral degree in Marketing Manatzmentkai Graduate in Communication and consumer psychology. He also has 3 Post-Doctoral degrees in Consumer Behavior\, Digital Branding and Personalization Fields in Digital Campaigns.\nHe is an Expert and Approved Professor of Business Seminars of University Institutions and Public Organizations\, specializing in Digital Marketing and Entrepreneurship.\nIn his Academic career\, he has over 9\,500+ hours of Teaching in Greece and over 2\,500+ at Universities Abroad both in Europe and in America.
URL:http://superfounders.org/events/exclusive-digital-marketing-marketing-plan-2019-greece/
LOCATION:KEAK\, El. Venizelou 104\, Kalithea\, Greece
CATEGORIES:Workshop
ATTACH;FMTTYPE=image/jpeg:http://superfounders.org/wp-content/uploads/2018/12/ExclusiveDigitalMarketingPlan.jpg
END:VEVENT
END:VCALENDAR