BEGIN:VCALENDAR
VERSION:2.0
PRODID:-//Superfounders - ECPv5.2.0//NONSGML v1.0//EN
CALSCALE:GREGORIAN
METHOD:PUBLISH
X-WR-CALNAME:Superfounders
X-ORIGINAL-URL:http://superfounders.org
X-WR-CALDESC:Events for Superfounders
BEGIN:VTIMEZONE
TZID:UTC
BEGIN:STANDARD
TZOFFSETFROM:+0000
TZOFFSETTO:+0000
TZNAME:UTC
DTSTART:20180101T000000
END:STANDARD
END:VTIMEZONE
BEGIN:VEVENT
DTSTART;VALUE=DATE:20180425
DTEND;VALUE=DATE:20180428
DTSTAMP:20260421T202951
CREATED:20180418T132351Z
LAST-MODIFIED:20180418T142706Z
UID:26419-1524614400-1524873599@superfounders.org
SUMMARY:Esecurity Conference - Belgrade 2018
DESCRIPTION:Secound eSecurity Conference! \nCybercriminals are becoming more sophisticated and collaborative with every coming year. According to the latest research\, companies will spend at least 50% of the IT budget for the improvement of the corporate network security and malware protection systems. Adequate backup solution is necessary for full data protection\, too. The sophisticated IT security system is very important for known and new concepts like cloud\, MDM (Mobile Device Management)\, IoT (Internet of Things)\, BYOD (Bring Your Own Device) etc. \neSecurity Conference is international event\, which follows the trends in the field of cybersecurity every year. This year all of the topics will be grouped into panels. Part of the lectures will be dedicated to the banking security operations including online and mobile payments and security of payment cards. Special lectures will be based on proper management of information system security\, security of mobile devices and applications\, authentication problems\, advanced antivirus protection and security of Linux systems\, as well as digital forensics\, ethical hacking\, penetration testing\, systems for data recovery and the latest threats and abuse techniques in information systems. \neSecurity Association
URL:http://superfounders.org/events/esecurity-conference-belgrade-2018/
LOCATION:Crowne Plaza Hotel\, Michalacopoulou Street 50\, Athens\, Greece
CATEGORIES:Conference
ATTACH;FMTTYPE=image/jpeg:http://superfounders.org/wp-content/uploads/2018/04/Secound-eSecurity-Conference.jpg
END:VEVENT
END:VCALENDAR