BEGIN:VCALENDAR
VERSION:2.0
PRODID:-//Superfounders - ECPv5.2.0//NONSGML v1.0//EN
CALSCALE:GREGORIAN
METHOD:PUBLISH
X-WR-CALNAME:Superfounders
X-ORIGINAL-URL:http://superfounders.org
X-WR-CALDESC:Events for Superfounders
BEGIN:VTIMEZONE
TZID:UTC
BEGIN:STANDARD
TZOFFSETFROM:+0000
TZOFFSETTO:+0000
TZNAME:UTC
DTSTART:20170101T000000
END:STANDARD
END:VTIMEZONE
BEGIN:VEVENT
DTSTART;VALUE=DATE:20170610
DTEND;VALUE=DATE:20170611
DTSTAMP:20260421T235424
CREATED:20170517T120541Z
LAST-MODIFIED:20170517T120702Z
UID:24740-1497052800-1497139199@superfounders.org
SUMMARY:Ennovation Athens 10th edition
DESCRIPTION:Ennovation is an international student competition on Digital Innovation and Entrepreneurship. The competition runs by a network of 18 universities in Greece and Cyprus with the organizational support of the Athens University of Economics & Business. \nThe competition aims to educate students and young researchers in the field of innovation and digital entrepreneurship\, as well as to promote young entrepreneurship in the fields of internet\, mobile business\, etc. \nExperts in the field help students to analyse and  promote  new  entrepreneurial  ideas and models for electronic businesses\, along with new digital products/services.  An additional aim is to generate a collaborative environment for the further development of new innovative digital entreprises. \nThe new Research Stream of proposals has been added since 2014\, which focuses on technological innovation and business development research results and solutions that have been developed as a result of years of dedicated research. Proposals submitted in response to the flow that will be evaluated separately and distinguished from the rest.
URL:http://superfounders.org/events/ennovation-2017-athens-10th-edition/
LOCATION:Kefallinias 46\, Athens\, Greece
CATEGORIES:Workshop
ATTACH;FMTTYPE=image/png:http://superfounders.org/wp-content/uploads/2017/05/Ennovation-702x336.png
END:VEVENT
END:VCALENDAR