BEGIN:VCALENDAR
VERSION:2.0
PRODID:-//Superfounders - ECPv5.2.0//NONSGML v1.0//EN
CALSCALE:GREGORIAN
METHOD:PUBLISH
X-WR-CALNAME:Superfounders
X-ORIGINAL-URL:http://superfounders.org
X-WR-CALDESC:Events for Superfounders
BEGIN:VTIMEZONE
TZID:UTC
BEGIN:STANDARD
TZOFFSETFROM:+0000
TZOFFSETTO:+0000
TZNAME:UTC
DTSTART:20170101T000000
END:STANDARD
END:VTIMEZONE
BEGIN:VEVENT
DTSTART;VALUE=DATE:20170513
DTEND;VALUE=DATE:20170514
DTSTAMP:20260421T171902
CREATED:20170418T144620Z
LAST-MODIFIED:20170418T144815Z
UID:24363-1494633600-1494719999@superfounders.org
SUMMARY:eMagine conference Belgrade
DESCRIPTION:The Internet of Things has already been successfully sold as a concept. It is already here. Machines are connected\, and data is being captured. Now it’s about exploiting it\, using IoT to change all facets of business. Don’t be left behind\, come and join us on our eMagine conference and experience the unique educational journey through “technology of the future”.
URL:http://superfounders.org/events/emagine-conference-belgrade/
LOCATION:Belexpo Centar\, Španskih boraca 74\, Belgrade\, 11070\, Serbia
CATEGORIES:Conference
ATTACH;FMTTYPE=image/jpeg:http://superfounders.org/wp-content/uploads/2017/04/emaginebelgrade.jpg
END:VEVENT
END:VCALENDAR