BEGIN:VCALENDAR
VERSION:2.0
PRODID:-//Superfounders - ECPv5.2.0//NONSGML v1.0//EN
CALSCALE:GREGORIAN
METHOD:PUBLISH
X-WR-CALNAME:Superfounders
X-ORIGINAL-URL:http://superfounders.org
X-WR-CALDESC:Events for Superfounders
BEGIN:VTIMEZONE
TZID:UTC
BEGIN:STANDARD
TZOFFSETFROM:+0000
TZOFFSETTO:+0000
TZNAME:UTC
DTSTART:20170101T000000
END:STANDARD
END:VTIMEZONE
BEGIN:VEVENT
DTSTART;VALUE=DATE:20170324
DTEND;VALUE=DATE:20170325
DTSTAMP:20260421T171700
CREATED:20170315T101454Z
LAST-MODIFIED:20170315T102415Z
UID:23994-1490313600-1490399999@superfounders.org
SUMMARY:E-development(E-razvoj) Belgrade
DESCRIPTION:e-Development is a voluntary\, non-governmental and non-profit Association\, founded for an indefinite time with the aim of accomplishing targeted goals and objectives in the field of information society development.
URL:http://superfounders.org/events/e-developmente-razvoj-belgrade/
LOCATION:Hotel Palace\, Belgrade\, Serbia
CATEGORIES:Conference
ATTACH;FMTTYPE=image/jpeg:http://superfounders.org/wp-content/uploads/2017/03/16999012_1592741844087143_4528746979538542257_n.jpg
END:VEVENT
END:VCALENDAR