BEGIN:VCALENDAR
VERSION:2.0
PRODID:-//Superfounders - ECPv5.2.0//NONSGML v1.0//EN
CALSCALE:GREGORIAN
METHOD:PUBLISH
X-WR-CALNAME:Superfounders
X-ORIGINAL-URL:http://superfounders.org
X-WR-CALDESC:Events for Superfounders
BEGIN:VTIMEZONE
TZID:UTC
BEGIN:STANDARD
TZOFFSETFROM:+0000
TZOFFSETTO:+0000
TZNAME:UTC
DTSTART:20170101T000000
END:STANDARD
END:VTIMEZONE
BEGIN:VEVENT
DTSTART;VALUE=DATE:20170326
DTEND;VALUE=DATE:20170329
DTSTAMP:20260421T224923
CREATED:20170315T124526Z
LAST-MODIFIED:20170315T125412Z
UID:24026-1490486400-1490745599@superfounders.org
SUMMARY:E-business conference (E-trgovina) Palic
DESCRIPTION:To enable you to easily plan your arrival and your time at the conference\, here you can find information about the locations where the program was kept on working days and working hours during the Conference. A detailed schedule of the program can be found here.
URL:http://superfounders.org/events/e-business-conference-e-trgovina-palic/
LOCATION:Palic
CATEGORIES:Conference
ATTACH;FMTTYPE=image/jpeg:http://superfounders.org/wp-content/uploads/2017/03/bg-conference.jpg
END:VEVENT
END:VCALENDAR