BEGIN:VCALENDAR
VERSION:2.0
PRODID:-//Superfounders - ECPv5.2.0//NONSGML v1.0//EN
CALSCALE:GREGORIAN
METHOD:PUBLISH
X-WR-CALNAME:Superfounders
X-ORIGINAL-URL:http://superfounders.org
X-WR-CALDESC:Events for Superfounders
BEGIN:VTIMEZONE
TZID:UTC
BEGIN:STANDARD
TZOFFSETFROM:+0000
TZOFFSETTO:+0000
TZNAME:UTC
DTSTART:20170101T000000
END:STANDARD
END:VTIMEZONE
BEGIN:VEVENT
DTSTART;VALUE=DATE:20170327
DTEND;VALUE=DATE:20170330
DTSTAMP:20260421T224748
CREATED:20170221T144822Z
LAST-MODIFIED:20170223T140706Z
UID:23785-1490572800-1490831999@superfounders.org
SUMMARY:E-biz 2017 Zagreb
DESCRIPTION:e-biz 2017 Conference on international conference on Digital Business Operations is the most important meeting of theoreticians and practitioners\, sellers of equipment and solutions in the theoretical and practical fields. It will be organized in Zagreb\, Croatia.
URL:http://superfounders.org/events/e-biz-2017/
LOCATION:Hypo center\, Slavonska avenija 6\, Zagreb\, Croatia (Local Name: Hrvatska)
CATEGORIES:Conference
ATTACH;FMTTYPE=image/jpeg:http://superfounders.org/wp-content/uploads/2017/02/16830820_1524678480905726_1171653953192928984_n.jpg
END:VEVENT
END:VCALENDAR