BEGIN:VCALENDAR
VERSION:2.0
PRODID:-//Superfounders - ECPv5.2.0//NONSGML v1.0//EN
CALSCALE:GREGORIAN
METHOD:PUBLISH
X-WR-CALNAME:Superfounders
X-ORIGINAL-URL:http://superfounders.org
X-WR-CALDESC:Events for Superfounders
BEGIN:VTIMEZONE
TZID:UTC
BEGIN:STANDARD
TZOFFSETFROM:+0000
TZOFFSETTO:+0000
TZNAME:UTC
DTSTART:20190101T000000
END:STANDARD
END:VTIMEZONE
BEGIN:VEVENT
DTSTART;VALUE=DATE:20191211
DTEND;VALUE=DATE:20191213
DTSTAMP:20260421T125650
CREATED:20190411T081623Z
LAST-MODIFIED:20191029T093707Z
UID:28066-1576022400-1576195199@superfounders.org
SUMMARY:Disrupt Berlin 2019
DESCRIPTION:Startups Start Here.\nIf you’re serious about startups\, we’re still keeping it as real as ever. At Disrupt\, everyone is a startupper – no matter if you’re aC founder\, investor\, hacker or tech leader. So much more than just on-stage interviews\, Disrupt is where you’ll find the renowned Startup Battlefield competition\, a virtual Hackathon\, hundreds of startups in Startup Alley\, Workshops and legendary networking at our After Parties… and we’re in Berlin\, right where many startup dreams begin. \nBreaking News\nStraight from the headlines of TechCrunch.com\, you know at Disrupt you’ll hear from the people who are not only setting the rules but also changing the tech game. \nFounders First\nDiscovering and launching impactful startups is our M.O. – from the Startup Battlefield competition to Startup Alley. If you’re an early stage founder with a product and big visions for your future\, you’re in the right place: Startups Start Here. \nCommunity Building\nDisrupt attendees are driven and focused. Whether you’re looking for funding\, a new job\, your new co-founder or investment\, Disrupt offers several ways to help you connect with the right people efficiently and effectively. \nUse our 15% discount code: SUPERFOUNDERS\nDon’t miss out and grab your pass today to save €500+. Price increases on 9th November.\nAgenda: HERE
URL:http://superfounders.org/events/disrupt-berlin-2019/
LOCATION:Arena Berlin\, Eichenstraße 4\, Berlin\, Germany
CATEGORIES:Conference
ATTACH;FMTTYPE=image/png:http://superfounders.org/wp-content/uploads/2019/04/Disrupt-Berlin-19-466X269.png
END:VEVENT
END:VCALENDAR