BEGIN:VCALENDAR
VERSION:2.0
PRODID:-//Superfounders - ECPv5.2.0//NONSGML v1.0//EN
CALSCALE:GREGORIAN
METHOD:PUBLISH
X-WR-CALNAME:Superfounders
X-ORIGINAL-URL:http://superfounders.org
X-WR-CALDESC:Events for Superfounders
BEGIN:VTIMEZONE
TZID:UTC
BEGIN:STANDARD
TZOFFSETFROM:+0000
TZOFFSETTO:+0000
TZNAME:UTC
DTSTART:20160101T000000
END:STANDARD
END:VTIMEZONE
BEGIN:VEVENT
DTSTART;VALUE=DATE:20160519
DTEND;VALUE=DATE:20160521
DTSTAMP:20260421T162915
CREATED:20170528T161402Z
LAST-MODIFIED:20170528T161402Z
UID:24948-1463616000-1463788799@superfounders.org
SUMMARY:Digitalk Sofia 2016 event
DESCRIPTION:DigitalK is South Eastern Europe’s leading digital and startup event. The two-day event brings founders of world-leading tech companies\, unicorns\, startups\, investors and digital gurus together to inspire\, give valuable insights and networking opportunities to attendees. \nDigitalK 2016\, 19-20 May. \nEarly-bird pricing ends April 22
URL:http://superfounders.org/events/digitalk-sofia-2016-event/
LOCATION:Paradise center Sofia\, Черни връх 100\, Sofia \,  1407 \, Bulgaria
CATEGORIES:Conference
ATTACH;FMTTYPE=image/jpeg:http://superfounders.org/wp-content/uploads/2017/05/digitalk2016.jpg
END:VEVENT
END:VCALENDAR