BEGIN:VCALENDAR
VERSION:2.0
PRODID:-//Superfounders - ECPv5.2.0//NONSGML v1.0//EN
CALSCALE:GREGORIAN
METHOD:PUBLISH
X-WR-CALNAME:Superfounders
X-ORIGINAL-URL:http://superfounders.org
X-WR-CALDESC:Events for Superfounders
BEGIN:VTIMEZONE
TZID:UTC
BEGIN:STANDARD
TZOFFSETFROM:+0000
TZOFFSETTO:+0000
TZNAME:UTC
DTSTART:20180101T000000
END:STANDARD
END:VTIMEZONE
BEGIN:VEVENT
DTSTART;VALUE=DATE:20180531
DTEND;VALUE=DATE:20180602
DTSTAMP:20260421T224506
CREATED:20161214T131331Z
LAST-MODIFIED:20180209T140242Z
UID:23474-1527724800-1527897599@superfounders.org
SUMMARY:DigitalK - Sofia
DESCRIPTION:Digital|K conference will host again this year its start up competition. The best startups will present to leading European venture capital funds and tech journalists. The final shortlist will pitch on the main conference stage and compete for a 10\,000 Euro cash prize. \n\n\nThe DigitalK conference has become one of the most influential digital technology events in Southeast Europe. Conference lineup consists of global business leaders\, founders\, investors and digital marketing professionals.\nMore than 2000 people attend the event every year\, representing the most active entrepreneurs\, startups and digital professionals from the region. \nDigitalK conference will host again this year its startup competition. Shortlisted best startups will present at semi-finals in front of leading European venture capital funds and tech journalists. The best teams will pitch on the main conference stage and compete for a cash award. Stay tuned\, applications will open soon!
URL:http://superfounders.org/events/digitalk-2017/
LOCATION:Sofia Event Center\, 1407 Cherni Vrah Blvd 100\, Sofia\, Bulgaria
CATEGORIES:Conference
ATTACH;FMTTYPE=image/png:http://superfounders.org/wp-content/uploads/2016/12/digitalk2018.png
END:VEVENT
END:VCALENDAR