BEGIN:VCALENDAR
VERSION:2.0
PRODID:-//Superfounders - ECPv5.2.0//NONSGML v1.0//EN
CALSCALE:GREGORIAN
METHOD:PUBLISH
X-WR-CALNAME:Superfounders
X-ORIGINAL-URL:http://superfounders.org
X-WR-CALDESC:Events for Superfounders
BEGIN:VTIMEZONE
TZID:UTC
BEGIN:STANDARD
TZOFFSETFROM:+0000
TZOFFSETTO:+0000
TZNAME:UTC
DTSTART:20180101T000000
END:STANDARD
END:VTIMEZONE
BEGIN:VEVENT
DTSTART;VALUE=DATE:20180313
DTEND;VALUE=DATE:20180314
DTSTAMP:20260423T093652
CREATED:20180308T152816Z
LAST-MODIFIED:20180308T152826Z
UID:26221-1520899200-1520985599@superfounders.org
SUMMARY:Digital Takeover Zagreb 2018
DESCRIPTION:Digital Takeover\nis 24sata’s innovative educational platform and the central point for digital communication that brings together the decision-makers and digital experts of the region. Digital Takeover conference is the first major conference in the first quarter of the new financial year that starts the topic of digital transformation in our market. \nThis unique platform developed by 24sata has quickly become a focal point for digital communication between the most influential decision-makers on the domestic market. Digital Takeover adopts 24sata’s strategy and\, by being the first project of that kind in Croatia\, it takes the leading role in that field. \nThe idea of digital transformation and the message concerning the importance of investing in digital advertising is being transmitted through a series of events\, lectures\, and workshops with constant media coverage. So far\, there have been more than 10 events organized within the Digital Takeover platform which have brought together over 1\,500 participants. The largest regional digital conference took place in March 2017 and featured world-renowned digital experts.
URL:http://superfounders.org/events/digital-take-zagreb/
LOCATION:Cinestar Branimir Centar\, Ul. kneza Branimira 29\, Zagreb\, 10000\, Croatia (Local Name: Hrvatska)
CATEGORIES:Conference
ATTACH;FMTTYPE=image/jpeg:http://superfounders.org/wp-content/uploads/2018/03/digitaltakeoverzagreb.jpg
END:VEVENT
END:VCALENDAR