BEGIN:VCALENDAR
VERSION:2.0
PRODID:-//Superfounders - ECPv5.2.0//NONSGML v1.0//EN
CALSCALE:GREGORIAN
METHOD:PUBLISH
X-WR-CALNAME:Superfounders
X-ORIGINAL-URL:http://superfounders.org
X-WR-CALDESC:Events for Superfounders
BEGIN:VTIMEZONE
TZID:UTC
BEGIN:STANDARD
TZOFFSETFROM:+0000
TZOFFSETTO:+0000
TZNAME:UTC
DTSTART:20170101T000000
END:STANDARD
END:VTIMEZONE
BEGIN:VEVENT
DTSTART;VALUE=DATE:20171130
DTEND;VALUE=DATE:20171201
DTSTAMP:20260421T235436
CREATED:20171110T090413Z
LAST-MODIFIED:20171110T091531Z
UID:25852-1512000000-1512086399@superfounders.org
SUMMARY:Digital Shapers - Zagreb
DESCRIPTION:DIGITAL TRANSFORMATION IS ONE OF THE DRIVERS OF THE MODERN ECONOMY. IN ORDER TO SHOW THE BEST EXAMPLES OF THIS FOURTH INDUSTRIAL REVOLUTION\, RTL CROATIA IS INITIATING A ONE-OF-A-KIND PLATFORM CALLED DIGITAL SHAPERS. \nTHE PEAK OF THE PROJECT IS THE CONFERENCE TO BE HELD ON 30 NOVEMBER IN ZAGREB THAT WILL GATHER THE LEADING FOREIGN AND CROATIAN EXPERTS. DURING THE PANELS THEY WILL SHOW THE BEST DIGITAL TRANSFORMATION EXAMPLES AND OFFER REAL SOLUTIONS FOR COMPANIES DURING THE WORKSHOPS. \nFOR THE VERY FIRST TIME THIS CONFERENCE WILL ALSO NOMINATE THE DIGITAL SHAPER OF CROATIA – AN INDIVIDUAL WHOSE WORK HAS GIVEN A CONTRIBUTION TO DIGITALISATION AND CHANGING OF CROATIA.
URL:http://superfounders.org/events/digital-shapers-zagreb/
LOCATION:KAPTOL BOUTIQUE CINEMA\, Zagreb\, 10000\, Croatia (Local Name: Hrvatska)
CATEGORIES:Conference
ATTACH;FMTTYPE=image/png:http://superfounders.org/wp-content/uploads/2017/11/DigitalShapers_najava.png
END:VEVENT
END:VCALENDAR