BEGIN:VCALENDAR
VERSION:2.0
PRODID:-//Superfounders - ECPv5.2.0//NONSGML v1.0//EN
CALSCALE:GREGORIAN
METHOD:PUBLISH
X-WR-CALNAME:Superfounders
X-ORIGINAL-URL:http://superfounders.org
X-WR-CALDESC:Events for Superfounders
BEGIN:VTIMEZONE
TZID:UTC
BEGIN:STANDARD
TZOFFSETFROM:+0000
TZOFFSETTO:+0000
TZNAME:UTC
DTSTART:20170101T000000
END:STANDARD
END:VTIMEZONE
BEGIN:VEVENT
DTSTART;TZID=UTC:20171106T191500
DTEND;TZID=UTC:20171106T204500
DTSTAMP:20260421T181827
CREATED:20171103T093507Z
LAST-MODIFIED:20171103T093542Z
UID:25754-1509995700-1510001100@superfounders.org
SUMMARY:DevOps featuring Atlassian - Betahaus Sofia
DESCRIPTION:Lecturer at DevOps – Georgi Stoyanov \nSenior Program Engineer and project manager at Nemetsche Bulgaria.\nGeorgi is an experienced software developer with more than 20 years of professional experience.\nCurrently\, he is responsible for Atlassian tools implementation\, development\, maintenance and add-ons in Nemetschek Bulgaria.\nOver the past 5 years\, his deep technical expertise and managerial skills have helped a number of organizations make the most of their Atlassian tools. \nWITH THE SUPPORT OF DataArt Bulgaria \nDataArt is an international technology consulting company that designs\, develops and maintains unique software solutions to help customers grow their business. We partner with our customers to create innovative solutions to contribute to their continued success on the market.
URL:http://superfounders.org/events/devops-featuring-atlassian-betahaus-sofia/
LOCATION:betahaus Sofia\, Krum Popov str. 56-58\, Sofia\, 1421\, Bulgaria
CATEGORIES:meetup
ATTACH;FMTTYPE=image/jpeg:http://superfounders.org/wp-content/uploads/2017/11/DevOps.jpg
END:VEVENT
END:VCALENDAR