BEGIN:VCALENDAR
VERSION:2.0
PRODID:-//Superfounders - ECPv5.2.0//NONSGML v1.0//EN
CALSCALE:GREGORIAN
METHOD:PUBLISH
X-WR-CALNAME:Superfounders
X-ORIGINAL-URL:http://superfounders.org
X-WR-CALDESC:Events for Superfounders
BEGIN:VTIMEZONE
TZID:UTC
BEGIN:STANDARD
TZOFFSETFROM:+0000
TZOFFSETTO:+0000
TZNAME:UTC
DTSTART:20170101T000000
END:STANDARD
END:VTIMEZONE
BEGIN:VEVENT
DTSTART;VALUE=DATE:20171109
DTEND;VALUE=DATE:20171111
DTSTAMP:20260421T182052
CREATED:20170620T082156Z
LAST-MODIFIED:20170620T093911Z
UID:25238-1510185600-1510358399@superfounders.org
SUMMARY:DefCamp Bucharest
DESCRIPTION:Everything is set and we are happy to officially announce that the 8th edition of DefCamp is scheduled for November 9th -10th\, 2017 in Bucharest. \nThe eighth-annual DefCamp will bring under the same roof important companies and cyber security experts to discuss latest problems and solutions applied in the current digital & information environment. \nConference highlights\nIt is clear that last couple of months highlighted\, even more\, the importance of cyber security when owning or managing technologies so time has come to join and: \n\nHear the latest cyber security researchers and case studies\nLearn successful approaches on how to keep your assets safe and your customers’ data private\nUnderstand global and European trends including hackers’ behavior\nExamine and debate the most effective and innovative solutions to keep your business safe\nGain insights into the opportunities of hiring the proper IT security specialist or find the perfect partner for your annual security assessment\nDetermine the impact of privacy concerns in the currently connected ecosystem and identify ways to face cyber threats
URL:http://superfounders.org/events/defcamp-bucharest/
LOCATION:Bucharest \, Romania
CATEGORIES:Hackaton
ATTACH;FMTTYPE=image/jpeg:http://superfounders.org/wp-content/uploads/2017/06/Post-Image_post-image-register-for-1140x629.jpg
END:VEVENT
END:VCALENDAR