BEGIN:VCALENDAR
VERSION:2.0
PRODID:-//Superfounders - ECPv5.2.0//NONSGML v1.0//EN
CALSCALE:GREGORIAN
METHOD:PUBLISH
X-WR-CALNAME:Superfounders
X-ORIGINAL-URL:http://superfounders.org
X-WR-CALDESC:Events for Superfounders
BEGIN:VTIMEZONE
TZID:UTC
BEGIN:STANDARD
TZOFFSETFROM:+0000
TZOFFSETTO:+0000
TZNAME:UTC
DTSTART:20170101T000000
END:STANDARD
END:VTIMEZONE
BEGIN:VEVENT
DTSTART;VALUE=DATE:20170628
DTEND;VALUE=DATE:20170629
DTSTAMP:20260422T000807
CREATED:20170616T072524Z
LAST-MODIFIED:20170616T072614Z
UID:25204-1498608000-1498694399@superfounders.org
SUMMARY:Data Science Economy - Zagreb
DESCRIPTION:Data Science and Economy is important part of Digital Transformation today. We are connecting people and organizations that think about the impact of the data science and how to create a new value out of the resources that you have\, or you have an opportunity to create. \n\n\n\n\n\n\n\n\n\nThis conference is also for business analytics professionals working in data science\, big data\, data mining\, machine learning\, artificial intelligence\, or predictive modeling – they want to see what others are doing and what are the best practices from the companies and vendors that are participating.
URL:http://superfounders.org/events/data-science-economy-zagreb/
LOCATION:Hub 385\, Zagreb\, Croatia (Local Name: Hrvatska)
CATEGORIES:Conference
ATTACH;FMTTYPE=image/png:http://superfounders.org/wp-content/uploads/2017/06/datascienceeconomyzagreb.png
END:VEVENT
END:VCALENDAR