BEGIN:VCALENDAR
VERSION:2.0
PRODID:-//Superfounders - ECPv5.2.0//NONSGML v1.0//EN
CALSCALE:GREGORIAN
METHOD:PUBLISH
X-WR-CALNAME:Superfounders
X-ORIGINAL-URL:http://superfounders.org
X-WR-CALDESC:Events for Superfounders
BEGIN:VTIMEZONE
TZID:UTC
BEGIN:STANDARD
TZOFFSETFROM:+0000
TZOFFSETTO:+0000
TZNAME:UTC
DTSTART:20170101T000000
END:STANDARD
END:VTIMEZONE
BEGIN:VEVENT
DTSTART;VALUE=DATE:20171121
DTEND;VALUE=DATE:20171123
DTSTAMP:20260421T200548
CREATED:20171101T154337Z
LAST-MODIFIED:20171101T154337Z
UID:25718-1511222400-1511395199@superfounders.org
SUMMARY:Data Science Conference Belgrade
DESCRIPTION:Data Science Conference 3.0 will be held on November 21-22 2017 in Belexpocenter & Holiday Inn in Belgrade. Join more than 700 Data Scientists and Data Enthusiasts from all across Southeastern and Central Europe! \nDuring 2 days of the Conference\, attendees will have an opportunity to hear 36 talks on a myriad of topics from the wide field of data science. \nSome of the topics that will be covered are:\nBig Data\, Blockchain\, Data Visualization\, Data Warehouse\, Image Recognition\, Data Monetization in Big companies\, Building a Data Science Team\, How to become Data Scientist\, Optimization processes\, Predictive Analytics\, Artificial intelligence\, Deep Learning and so much more.
URL:http://superfounders.org/events/data-science-conference-belgrade/
LOCATION:Belexpo Centar\, Španskih boraca 74\, Belgrade\, 11070\, Serbia
CATEGORIES:Conference
ATTACH;FMTTYPE=image/png:http://superfounders.org/wp-content/uploads/2017/11/datascienceconference.png
END:VEVENT
END:VCALENDAR