BEGIN:VCALENDAR
VERSION:2.0
PRODID:-//Superfounders - ECPv5.2.0//NONSGML v1.0//EN
CALSCALE:GREGORIAN
METHOD:PUBLISH
X-WR-CALNAME:Superfounders
X-ORIGINAL-URL:http://superfounders.org
X-WR-CALDESC:Events for Superfounders
BEGIN:VTIMEZONE
TZID:UTC
BEGIN:STANDARD
TZOFFSETFROM:+0000
TZOFFSETTO:+0000
TZNAME:UTC
DTSTART:20170101T000000
END:STANDARD
END:VTIMEZONE
BEGIN:VEVENT
DTSTART;TZID=UTC:20170628T180000
DTEND;TZID=UTC:20170628T210000
DTSTAMP:20260422T003143
CREATED:20170620T164902Z
LAST-MODIFIED:20170620T165159Z
UID:25249-1498672800-1498683600@superfounders.org
SUMMARY:CSR Demo Day Awards Ceremony
DESCRIPTION:CEED Bulgaria has the pleasure to invite you to the ceremony to promote the best ideas for a responsible business. \nThe winners will be selected among over 20 ideas selected to reach the final during training for responsible business CEED Bulgaria’s experts\, together with Swiss experts\, held in April and May in 6 cities in the country – Burgas\, Varna\, Plovdiv\, Veliko Tarnovo\, Vratsa and Sofia. \nDuring the training sessions in each city\, the participants were consulted and helped to integrate responsible business practices into their companies\, as well as being able to present to the audience. \nThe tricky task of a 6-member jury composed of: Sebastian Fry\, SIFE; Michael Bayer\, SIFE; Pavel Ezekiev\, NEVEQ; Rumen Iliev\, LAUNCHub\, Darina Georgieva\, UN Global Compact Bulgarian Network and Elitsa Barakova\, Bcause Foundation\, will be selecting 5 winners to win a trip to Switzerland for an exchange of experience.
URL:http://superfounders.org/events/csr-demo-day-awards-ceremony/
LOCATION:Зала 42\, България" №1\, Sofia\, Bulgaria
CATEGORIES:meetup
ATTACH;FMTTYPE=image/jpeg:http://superfounders.org/wp-content/uploads/2017/06/CSR-Demo-Day-Awards-Ceremony.jpg
END:VEVENT
END:VCALENDAR