BEGIN:VCALENDAR
VERSION:2.0
PRODID:-//Superfounders - ECPv5.2.0//NONSGML v1.0//EN
CALSCALE:GREGORIAN
METHOD:PUBLISH
X-WR-CALNAME:Superfounders
X-ORIGINAL-URL:http://superfounders.org
X-WR-CALDESC:Events for Superfounders
BEGIN:VTIMEZONE
TZID:UTC
BEGIN:STANDARD
TZOFFSETFROM:+0000
TZOFFSETTO:+0000
TZNAME:UTC
DTSTART:20160101T000000
END:STANDARD
END:VTIMEZONE
BEGIN:VEVENT
DTSTART;TZID=UTC:20161026T080000
DTEND;TZID=UTC:20161028T170000
DTSTAMP:20260421T153641
CREATED:20161026T081726Z
LAST-MODIFIED:20161026T081726Z
UID:22684-1477468800-1477674000@superfounders.org
SUMMARY:Corp2IN 2016
DESCRIPTION:(EN) Corporate Innovation and Intrapreneurship Conference is the international conference for corporate entrepreneurs\, innovation managers\, design thinkers and other people to learn the best practices and new ideas how they can drive their corporation forward. \nYou will learn about Innovation\, Design Thinking\, Intrapreneurship\, Change\, Ideation\, Scale\, Growth\, Talents\, Culture\, Venturing\, Social Engagement and Creative Thinking. Any maybe some more.
URL:http://superfounders.org/events/corp2in-2016/
LOCATION:Hypo center\, Slavonska avenija 6\, Zagreb\, Croatia (Local Name: Hrvatska)
CATEGORIES:Conference
ATTACH;FMTTYPE=image/png:http://superfounders.org/wp-content/uploads/2016/10/corp2in.png
END:VEVENT
END:VCALENDAR