BEGIN:VCALENDAR
VERSION:2.0
PRODID:-//Superfounders - ECPv5.2.0//NONSGML v1.0//EN
CALSCALE:GREGORIAN
METHOD:PUBLISH
X-WR-CALNAME:Superfounders
X-ORIGINAL-URL:http://superfounders.org
X-WR-CALDESC:Events for Superfounders
BEGIN:VTIMEZONE
TZID:UTC
BEGIN:STANDARD
TZOFFSETFROM:+0000
TZOFFSETTO:+0000
TZNAME:UTC
DTSTART:20170101T000000
END:STANDARD
END:VTIMEZONE
BEGIN:VEVENT
DTSTART;VALUE=DATE:20170407
DTEND;VALUE=DATE:20170409
DTSTAMP:20260422T081113
CREATED:20170221T162229Z
LAST-MODIFIED:20170223T140143Z
UID:23818-1491523200-1491695999@superfounders.org
SUMMARY:Conversion (Konverzija) Banja Luka
DESCRIPTION:Agency Grape & SEO.ba are jointly invited 20 regional experts in an intensive exchange of knowledge and unreserved. Our goal is that in this way raise the standard for E-Business conference in the region.
URL:http://superfounders.org/events/conversion-konverzija/
LOCATION:Hotel Jelena\, JOVANA DUČIĆA 25\, Banja Luka\, 78000\, Bosnia And Herzegowina
CATEGORIES:Conference
ATTACH;FMTTYPE=image/png:http://superfounders.org/wp-content/uploads/2017/02/hero-konv.png
END:VEVENT
END:VCALENDAR