BEGIN:VCALENDAR
VERSION:2.0
PRODID:-//Superfounders - ECPv5.2.0//NONSGML v1.0//EN
CALSCALE:GREGORIAN
METHOD:PUBLISH
X-WR-CALNAME:Superfounders
X-ORIGINAL-URL:http://superfounders.org
X-WR-CALDESC:Events for Superfounders
BEGIN:VTIMEZONE
TZID:UTC
BEGIN:STANDARD
TZOFFSETFROM:+0000
TZOFFSETTO:+0000
TZNAME:UTC
DTSTART:20170101T000000
END:STANDARD
END:VTIMEZONE
BEGIN:VEVENT
DTSTART;VALUE=DATE:20170405
DTEND;VALUE=DATE:20170408
DTSTAMP:20260422T100003
CREATED:20170221T161223Z
LAST-MODIFIED:20170221T161223Z
UID:23813-1491350400-1491609599@superfounders.org
SUMMARY:Cisco Connect 2017 Pula
DESCRIPTION:We are pleased to invite you to the 16th Cisco Connect conference to be held from 5-07.04.2017. in Hotel Park Plaza Histria in Pula. \nEvery year over 400 participants\, our customers and partners\, business and technical managers of the most successful Croatian companies\, domestic institutions and organizations\, representatives of foreign companies operating in Croatia\, as well as regional and global experts from Cisco. \n“Your time is now ‘has never been more important. Cisco Connect this year will be especially dedicated DevNet workshops will allow participants to embark on an inspiring journey to introduce new ways of automation of their network environments and through technological innovation to make IT more relevant in improving business performance. How to improve the speed of decision-making and business efficiency\, awaken creativity\, get acquainted with the upcoming trends and get to the final success? All this and a lot of additional facilities as well as the inevitable networking waiting for you on the Cisco Connect conference. \nJoin us and already booked their time for new experiences\, helpful presentations\, and socialize with professionals from the ICT area.
URL:http://superfounders.org/events/cisco-connect-2017-pula/
LOCATION:Hotel Park Plaza Histria\, Pula\, Croatia (Local Name: Hrvatska)
CATEGORIES:Conference
ATTACH;FMTTYPE=image/png:http://superfounders.org/wp-content/uploads/2017/02/pulacisco.png
END:VEVENT
END:VCALENDAR