BEGIN:VCALENDAR
VERSION:2.0
PRODID:-//Superfounders - ECPv5.2.0//NONSGML v1.0//EN
CALSCALE:GREGORIAN
METHOD:PUBLISH
X-WR-CALNAME:Superfounders
X-ORIGINAL-URL:http://superfounders.org
X-WR-CALDESC:Events for Superfounders
BEGIN:VTIMEZONE
TZID:UTC
BEGIN:STANDARD
TZOFFSETFROM:+0000
TZOFFSETTO:+0000
TZNAME:UTC
DTSTART:20190101T000000
END:STANDARD
END:VTIMEZONE
BEGIN:VEVENT
DTSTART;VALUE=DATE:20191121
DTEND;VALUE=DATE:20191122
DTSTAMP:20260421T163550
CREATED:20191001T115219Z
LAST-MODIFIED:20191028T190515Z
UID:28530-1574294400-1574380799@superfounders.org
SUMMARY:Central European Startup Awards (CESA) 2019 Bucharest
DESCRIPTION:Central European Startup Awards\, a competition aimed at startups whose products or services are based on innovative technological solutions\, has nominated the winners of the competition in Romania. Here is the list of Romanian startups\, Romanian founders and investors who won the local CESA 2019 final and which enters the CESA regional final\, which takes place in Bucharest on November 21.\nOut of more than 800 nominations\, more than 60 finalists\, 13 are on the podium and move on to the regional stage. \n🥇 Best Accelerator or Incubator Program – Techcelerator \n🥇 Best AI / Machine Learning Startup – Druid \n🥇 Best Blockchain Startup – OncoChain \n🥇 Best Coworking Space – Nod makerspace \n🥇 Best Fintech Startup – Payment \n🥇 Best Health Tech Startup – MEDIjobs Romania \n🥇 Best IoT Startup – Parking Spotter \n🥇 Best Newcomer – Druid \n🥇 Best Smart City Solution – City Health by Life Is Hard \n🥇 Best Social Impact Startup – Wello \n🥇 Best Software Development Partner – Softelligence \n🥇 Female Role Model of the Year – Irina Nicoleta Scarlat\, Head of Growth – CEE Revolut \n🥇 Founder of the Year – Mihai Cepoi\, Jobful \n🥇 Investor of the Year – Andrei Pitis \n🥇 Startup of the Year – Druid \nImpact Hub Bucharest is the official partner of the national competition\, but also in organizing the regional grand final on November 21 in Bucharest\, which will bring together representatives of the entrepreneurial ecosystem in Central and Eastern Europe. \nCentral European Startup Awards (CESA) is a competition in 10 countries – Austria\, Poland\, Czech Republic\, Slovakia\, Romania\, Bulgaria\, Serbia\, Croatia\, Slovenia and Hungary – and addresses startups whose products or services are based on solutions. technological innovations. \nHere is the list of finalists from Romania in the CESA 2019 competition.\nThe competition puts the focus of entrepreneurs and startups that contribute to progress\, which propose changes and solutions\, which are differentiated by impact\, growth and innovation. \nThe categories for which nominations could be made cover the tech industries (from fintech to AI to health tech\, blockchain\, smart city\, best accelerator\, best social impact startup\, IoT)\, but also categories addressed to other types of market players ( coworking\, investors\, accelerators or female role models). \nOn September 3\, the CESA organizers published the lists of finalists from each of the European countries participating in the competition. The CESA 2019 finalists from Romania could be voted until September 25th. \nThe winners of the local final will then compete in the regional stage. The winners of the regional stage will be announced during an international celebration and connection event that Impact Hub Bucharest organizes on November 21st. Entries for this event\, the Central European Startup Awards Grand Finale\, will be open starting October 1st.
URL:http://superfounders.org/events/central-european-startup-awards-cesa-2019-bucharest/
LOCATION:Impact Hub Bucharest\, Splaiul Unirii 165\, Timpuri Noi Square\, Building 2\, 1st floor\,\, Bucharest\, Romania
CATEGORIES:Conference
ATTACH;FMTTYPE=image/jpeg:http://superfounders.org/wp-content/uploads/2019/10/CESA-Romania.jpg
END:VEVENT
END:VCALENDAR