BEGIN:VCALENDAR
VERSION:2.0
PRODID:-//Superfounders - ECPv5.2.0//NONSGML v1.0//EN
CALSCALE:GREGORIAN
METHOD:PUBLISH
X-WR-CALNAME:Superfounders
X-ORIGINAL-URL:http://superfounders.org
X-WR-CALDESC:Events for Superfounders
BEGIN:VTIMEZONE
TZID:UTC
BEGIN:STANDARD
TZOFFSETFROM:+0000
TZOFFSETTO:+0000
TZNAME:UTC
DTSTART:20170101T000000
END:STANDARD
END:VTIMEZONE
BEGIN:VEVENT
DTSTART;VALUE=DATE:20170525
DTEND;VALUE=DATE:20170526
DTSTAMP:20260421T205046
CREATED:20170508T125815Z
LAST-MODIFIED:20170508T125815Z
UID:24670-1495670400-1495756799@superfounders.org
SUMMARY:Business day HR Summit Bucharest 2017
DESCRIPTION:In a constantly changing world amplified by technological advances\, and where talent shortages are no longer just a statistic\, but have become a real risk for business operations and growth\, HR is one of the key functions in an organization. Recruitment is becoming more and more a marketing activity\, organizations are turning into personal achievement spaces where employees are rather partners or entrepreneurs: all these represent directions and trends already shown in the labor market.
URL:http://superfounders.org/events/business-day-hr-summit-bucharest-2017/
LOCATION:Sala Tronului – Palatul Regal\, Bucharest \, Romania
CATEGORIES:Conference
ATTACH;FMTTYPE=image/jpeg:http://superfounders.org/wp-content/uploads/2017/05/Banner-eveniment-BD-HR-SUMMIT-2017-pentru-site-ul-BD-page-001-1.jpg
END:VEVENT
END:VCALENDAR