BEGIN:VCALENDAR
VERSION:2.0
PRODID:-//Superfounders - ECPv5.2.0//NONSGML v1.0//EN
CALSCALE:GREGORIAN
METHOD:PUBLISH
X-WR-CALNAME:Superfounders
X-ORIGINAL-URL:http://superfounders.org
X-WR-CALDESC:Events for Superfounders
BEGIN:VTIMEZONE
TZID:UTC
BEGIN:STANDARD
TZOFFSETFROM:+0000
TZOFFSETTO:+0000
TZNAME:UTC
DTSTART:20170101T000000
END:STANDARD
END:VTIMEZONE
BEGIN:VEVENT
DTSTART;VALUE=DATE:20170408
DTEND;VALUE=DATE:20170409
DTSTAMP:20260422T040110
CREATED:20170322T093759Z
LAST-MODIFIED:20170322T093922Z
UID:24120-1491609600-1491695999@superfounders.org
SUMMARY:Business Angels Forum IV Athens
DESCRIPTION:BAF is a series of focused\, closed events with a goal to help early-stage startups raise money. The selected audience consists of startups\, angel investors\, jury and representatives from the supporters’ groups. There are no extensive speeches\, but mainly pitching and networking. BAF IV is organized by Atlantis Research and Innovation Farm
URL:http://superfounders.org/events/business-angels-forum-athens/
LOCATION:Orange Grove\,  Leof. Vasileos Konstantinou 5\, Athens\, Greece
CATEGORIES:Conference
ATTACH;FMTTYPE=image/jpeg:http://superfounders.org/wp-content/uploads/2017/03/17309239_10212451898476235_455254490750479757_n.jpg
END:VEVENT
END:VCALENDAR