BEGIN:VCALENDAR
VERSION:2.0
PRODID:-//Superfounders - ECPv5.2.0//NONSGML v1.0//EN
CALSCALE:GREGORIAN
METHOD:PUBLISH
X-WR-CALNAME:Superfounders
X-ORIGINAL-URL:http://superfounders.org
X-WR-CALDESC:Events for Superfounders
BEGIN:VTIMEZONE
TZID:UTC
BEGIN:STANDARD
TZOFFSETFROM:+0000
TZOFFSETTO:+0000
TZNAME:UTC
DTSTART:20170101T000000
END:STANDARD
END:VTIMEZONE
BEGIN:VEVENT
DTSTART;VALUE=DATE:20170502
DTEND;VALUE=DATE:20170508
DTSTAMP:20260422T022852
CREATED:20170413T134536Z
LAST-MODIFIED:20170413T134637Z
UID:24332-1493683200-1494201599@superfounders.org
SUMMARY:Brave New World 2017 Zagreb
DESCRIPTION:Brave New World is the simplest to explain as our version of the world that should exist in the future. We have built a “reality distortion field” around our building and during Brave New World\, we wish to show that the future is really bright and full of potential. A world where it is possible that the 16-year-old device robotic prosthetic hand and becomes a role model for millions or high school student from Karlovac who decided to follow his crazy ideas and out of nothing do something wonderful like MakerBuino.\nIn this world instead of the Miss Universe choose Miss and Mister robot\, we use electric cars and racing drones that we have created. We learn through interesting games and workshops\, a practice we gain through the things we do ourselves in the garage or his room. Every year invent themselves and through new hobbies and projects we learn for life.
URL:http://superfounders.org/events/brave-new-world-2017-zagreb/
LOCATION:Hub 385\, Croatia (Local Name: Hrvatska)
CATEGORIES:Conference
ATTACH;FMTTYPE=image/png:http://superfounders.org/wp-content/uploads/2017/04/download-14.png
END:VEVENT
END:VCALENDAR