BEGIN:VCALENDAR
VERSION:2.0
PRODID:-//Superfounders - ECPv5.2.0//NONSGML v1.0//EN
CALSCALE:GREGORIAN
METHOD:PUBLISH
X-WR-CALNAME:Superfounders
X-ORIGINAL-URL:http://superfounders.org
X-WR-CALDESC:Events for Superfounders
BEGIN:VTIMEZONE
TZID:UTC
BEGIN:STANDARD
TZOFFSETFROM:+0000
TZOFFSETTO:+0000
TZNAME:UTC
DTSTART:20180101T000000
END:STANDARD
END:VTIMEZONE
BEGIN:VEVENT
DTSTART;VALUE=DATE:20180510
DTEND;VALUE=DATE:20180511
DTSTAMP:20260421T163404
CREATED:20180426T135305Z
LAST-MODIFIED:20180426T135803Z
UID:26469-1525910400-1525996799@superfounders.org
SUMMARY:Bitspiration 2018 - Warsaw
DESCRIPTION:At the Bitspiration lectures we will teach\, among others:\n\nbuilding and implementing an effective marketing strategy\,\nconstructing the sales funnel and correctly defining the group of recipients\,\nsave time by focusing on the right customers\,\nprinciples of effective recruitment and motivation of the IT team\,\nbuilding a leadership position in your team.\n\nHow does it differ from other business conferences?\nIt’s a conference that raises key issues in the field of building a company in one place and at one time: marketing\, sales\, recruitment and management. On our stage\, we do not present book theories\, we focus on real examples and experiences of entrepreneurs. We will not encourage you to copy American designs on the Polish market. The lectures of our speakers serve the exchange of knowledge\, not self-promotion. \nThanks to the new Bitspiration formula\, you have the opportunity to take part in various training in several areas during one day. Define your expectations and choose a lecture that will best answer them. \nHow can we be sure that we will pass on current and practical knowledge?\nWe have invited the best practitioners from selected fields to create Bitspiration. They form the Program Board\, which is responsible for the quality\, subject and level of lectures.
URL:http://superfounders.org/events/bitspiration-2018-warsaw/
LOCATION:Kompleks Adgar\, Al. Jerozolimskie 181 B\, Warsaw\, Poland
CATEGORIES:Conference
ATTACH;FMTTYPE=image/png:http://superfounders.org/wp-content/uploads/2018/04/bitspiration.png
END:VEVENT
END:VCALENDAR