BEGIN:VCALENDAR
VERSION:2.0
PRODID:-//Superfounders - ECPv5.2.0//NONSGML v1.0//EN
CALSCALE:GREGORIAN
METHOD:PUBLISH
X-WR-CALNAME:Superfounders
X-ORIGINAL-URL:http://superfounders.org
X-WR-CALDESC:Events for Superfounders
BEGIN:VTIMEZONE
TZID:UTC
BEGIN:STANDARD
TZOFFSETFROM:+0000
TZOFFSETTO:+0000
TZNAME:UTC
DTSTART:20170101T000000
END:STANDARD
END:VTIMEZONE
BEGIN:VEVENT
DTSTART;TZID=UTC:20171109T090000
DTEND;TZID=UTC:20171109T103000
DTSTAMP:20260421T182447
CREATED:20171103T094545Z
LAST-MODIFIED:20171103T094545Z
UID:25758-1510218000-1510223400@superfounders.org
SUMMARY:Out to Bound В2В Sales - Sofia
DESCRIPTION:Out2Bound В2В Sales will host us on the upcoming betabreakfast.\nThe so-called sales-as-a-service agency helps technology companies from Bulgaria and abroad to find customers for their products and services in international markets.\nTurning to a remote sales team\, Out2Bound reaches potential buyers from around the world through the outbound approach. Through a mix of traders and tools to find the right customers\, their team helps them throughout the entire process – from building a sales strategy to its implementation.\n“The idea was born about two years ago\, aiming to help technology companies find foreign markets where they can sell their products and services.” In Bulgaria\, has a lot of quality software and hardware products and services that really have worldwide application “. team.
URL:http://superfounders.org/events/betabreakfast-c-out2bound-%d0%b22%d0%b2-sales-sofia/
LOCATION:betahaus Sofia\, Krum Popov str. 56-58\, Sofia\, 1421\, Bulgaria
CATEGORIES:meetup
ATTACH;FMTTYPE=image/jpeg:http://superfounders.org/wp-content/uploads/2017/11/betabreakbeast.jpg
END:VEVENT
END:VCALENDAR