BEGIN:VCALENDAR
VERSION:2.0
PRODID:-//Superfounders - ECPv5.2.0//NONSGML v1.0//EN
CALSCALE:GREGORIAN
METHOD:PUBLISH
X-WR-CALNAME:Superfounders
X-ORIGINAL-URL:http://superfounders.org
X-WR-CALDESC:Events for Superfounders
BEGIN:VTIMEZONE
TZID:UTC
BEGIN:STANDARD
TZOFFSETFROM:+0000
TZOFFSETTO:+0000
TZNAME:UTC
DTSTART:20160101T000000
END:STANDARD
END:VTIMEZONE
BEGIN:VEVENT
DTSTART;VALUE=DATE:20161126
DTEND;VALUE=DATE:20161128
DTSTAMP:20260421T183336
CREATED:20161021T075904Z
LAST-MODIFIED:20161112T085618Z
UID:22482-1480118400-1480291199@superfounders.org
SUMMARY:Belgrade Testathon
DESCRIPTION:Belgrade Testathon is created to improve the development of the area of automatic testing and to shape the community that will bring all the testers from every level of expertise. From the beginners level to skilled seasoned professional. \nBelgrade Testathon conference is best suited for faculty students and junior test engineers. Leading foreign and domestic IT companies will help you learn about automatic testing from beginning to the end\, and will answer every single one of your questions along the way. \n 
URL:http://superfounders.org/events/belgrade-testathon/
LOCATION:Hotel 88 Rooms\,  Takovska 49\, Belgrade\, Serbia
CATEGORIES:Conference
ATTACH;FMTTYPE=image/jpeg:http://superfounders.org/wp-content/uploads/2016/10/testathon.jpg
END:VEVENT
END:VCALENDAR