BEGIN:VCALENDAR
VERSION:2.0
PRODID:-//Superfounders - ECPv5.2.0//NONSGML v1.0//EN
CALSCALE:GREGORIAN
METHOD:PUBLISH
X-WR-CALNAME:Superfounders
X-ORIGINAL-URL:http://superfounders.org
X-WR-CALDESC:Events for Superfounders
BEGIN:VTIMEZONE
TZID:UTC
BEGIN:STANDARD
TZOFFSETFROM:+0000
TZOFFSETTO:+0000
TZNAME:UTC
DTSTART:20170101T000000
END:STANDARD
END:VTIMEZONE
BEGIN:VEVENT
DTSTART;VALUE=DATE:20170306
DTEND;VALUE=DATE:20170308
DTSTAMP:20260421T114633
CREATED:20170220T125102Z
LAST-MODIFIED:20170220T125256Z
UID:23740-1488758400-1488931199@superfounders.org
SUMMARY:Athens Mini Maker Faire 2017
DESCRIPTION:Athens Mini Maker Faire brings together all the people involved in the making process in one place. Paricipants exhibit their projects and visitors have the opportunity to experience all the innovations and learn how each exhibit was made. Visitors have the opportunity to participate in interactive activities for the whole family and get involved in innovative technological achievements. \nThe most important festival for the making returns on 6 and 7 May 2017 in the Exhibition Center of Peristeri! Young and old makers show their innovative projects\, workshops and lectures around the Making waiting ages! You will find: 3d printing\, Arduino\, Drones\, Robotics\, DIY\, Crafting\, Pottery\, Fablabs\, Railbikes\, Hydroponics\, Food making\, Model making\, Soldering\, Welding\, Ebikes / ecars\, Hackerspaces and other innovative imagine around the making! Circumstances.
URL:http://superfounders.org/events/athens-mini-maker-faire-2017/
LOCATION:Peristeri Exhibition Centre\, Εκθεσιακό Κέντρο Περιστερίου\, Athens\, Greece
CATEGORIES:Conference
ATTACH;FMTTYPE=image/jpeg:http://superfounders.org/wp-content/uploads/2017/02/16684368_1271613956241533_2478865188273640002_n.jpg
END:VEVENT
END:VCALENDAR