BEGIN:VCALENDAR
VERSION:2.0
PRODID:-//Superfounders - ECPv5.2.0//NONSGML v1.0//EN
CALSCALE:GREGORIAN
METHOD:PUBLISH
X-WR-CALNAME:Superfounders
X-ORIGINAL-URL:http://superfounders.org
X-WR-CALDESC:Events for Superfounders
BEGIN:VTIMEZONE
TZID:UTC
BEGIN:STANDARD
TZOFFSETFROM:+0000
TZOFFSETTO:+0000
TZNAME:UTC
DTSTART:20170101T000000
END:STANDARD
END:VTIMEZONE
BEGIN:VEVENT
DTSTART;VALUE=DATE:20170506
DTEND;VALUE=DATE:20170508
DTSTAMP:20260421T202814
CREATED:20170421T133956Z
LAST-MODIFIED:20170502T191938Z
UID:24429-1494028800-1494201599@superfounders.org
SUMMARY:Athens Mini Maker Fair
DESCRIPTION:Maker Faire gathers fascinating people with curiosity enjoying learning and loves to share what they can do. From engineers to artists and from scientists to crafters\, Maker Faire is the focus of makers to show their hobbies\, experiments and projects. \nWe call it the Greatest Show & Tell on Earth – a family show for innovation\, creativity and ingenuity. \nDiscover the future and be inspired!
URL:http://superfounders.org/events/athens-mini-maker-fair/
LOCATION:Peristeri Exhibition Center\, Athens\, Greece
CATEGORIES:Workshop
ATTACH;FMTTYPE=image/jpeg:http://superfounders.org/wp-content/uploads/2017/04/viva-816x465.jpg
END:VEVENT
END:VCALENDAR