BEGIN:VCALENDAR
VERSION:2.0
PRODID:-//Superfounders - ECPv5.2.0//NONSGML v1.0//EN
CALSCALE:GREGORIAN
METHOD:PUBLISH
X-WR-CALNAME:Superfounders
X-ORIGINAL-URL:http://superfounders.org
X-WR-CALDESC:Events for Superfounders
BEGIN:VTIMEZONE
TZID:UTC
BEGIN:STANDARD
TZOFFSETFROM:+0000
TZOFFSETTO:+0000
TZNAME:UTC
DTSTART:20170101T000000
END:STANDARD
END:VTIMEZONE
BEGIN:VEVENT
DTSTART;TZID=UTC:20170315T170000
DTEND;TZID=UTC:20170315T210000
DTSTAMP:20260421T095616
CREATED:20170315T094813Z
LAST-MODIFIED:20170315T094911Z
UID:23988-1489597200-1489611600@superfounders.org
SUMMARY:Athens Bitcoin and Blockchain Meetup
DESCRIPTION:Bitcoin\, cryptocurrency & blockchain fans meet once a month to chat\, to debate\, to get to know each other\, to ask questions\, to learn\, to exchange cryptocurrency\, to eat and to drink! \nAttendance is free and we each pay our individual food & drink bill. More information about the venue at https://www.facebook.com/Asian-Taste-357005361084335/
URL:http://superfounders.org/events/athens-bitcoin-and-blockchain-meetup/
LOCATION:Asian Taste\, Iera Odos 26 and Keramikou 116\, Athens\, Greece
CATEGORIES:meetup
ATTACH;FMTTYPE=image/jpeg:http://superfounders.org/wp-content/uploads/2017/03/b81030c38a34dd364e469860ae7f16fd.jpg
END:VEVENT
END:VCALENDAR