BEGIN:VCALENDAR
VERSION:2.0
PRODID:-//Superfounders - ECPv5.2.0//NONSGML v1.0//EN
CALSCALE:GREGORIAN
METHOD:PUBLISH
X-WR-CALNAME:Superfounders
X-ORIGINAL-URL:http://superfounders.org
X-WR-CALDESC:Events for Superfounders
BEGIN:VTIMEZONE
TZID:UTC
BEGIN:STANDARD
TZOFFSETFROM:+0000
TZOFFSETTO:+0000
TZNAME:UTC
DTSTART:20170101T000000
END:STANDARD
END:VTIMEZONE
BEGIN:VEVENT
DTSTART;VALUE=DATE:20170921
DTEND;VALUE=DATE:20170922
DTSTAMP:20260421T112156
CREATED:20170616T075001Z
LAST-MODIFIED:20170616T080007Z
UID:25209-1505952000-1506038399@superfounders.org
SUMMARY:Artificial Intelligence Future unConference - Zagreb
DESCRIPTION:AR / VR\n\nLearn how Artificial Intelligence is driving Augmented Reality and Virtual Reality solutions. Find out what is happening and understand how this can be used in your own environment.\n\n\nInterfaces\n\nLearn what are Conversational Interfaces and how Artificial Intelligence is driving new ways of communications that use conversations with text\, audio or voice.
URL:http://superfounders.org/events/artificial-intelligence-future/
LOCATION:Zagreb\, Croatia (Local Name: Hrvatska)
ATTACH;FMTTYPE=image/jpeg:http://superfounders.org/wp-content/uploads/2017/06/Artificial-Intelligence-Future-unConference-Zagreb.jpg
END:VEVENT
END:VCALENDAR