BEGIN:VCALENDAR
VERSION:2.0
PRODID:-//Superfounders - ECPv5.2.0//NONSGML v1.0//EN
CALSCALE:GREGORIAN
METHOD:PUBLISH
X-WR-CALNAME:Superfounders
X-ORIGINAL-URL:http://superfounders.org
X-WR-CALDESC:Events for Superfounders
BEGIN:VTIMEZONE
TZID:UTC
BEGIN:STANDARD
TZOFFSETFROM:+0000
TZOFFSETTO:+0000
TZNAME:UTC
DTSTART:20170101T000000
END:STANDARD
END:VTIMEZONE
BEGIN:VEVENT
DTSTART;VALUE=DATE:20171027
DTEND;VALUE=DATE:20171029
DTSTAMP:20260421T200704
CREATED:20171024T072659Z
LAST-MODIFIED:20171024T072659Z
UID:25655-1509062400-1509235199@superfounders.org
SUMMARY:Amazon Web Services conference - Rijeka
DESCRIPTION:Amazon Web Services conference will be held in Croatia.\nThe organizers of AWS Adria are 3 IT companies; Hexis (Rijeka)\, NVTEH (Zagreb) & Coadria (Rijeka) along with Amazon partners. \nDuring two days of lectures\, panel discussion\, roundtables\, participants will be introduced to the benefits of using sophisticated AWS services and to share experiences in using them. \nSPEAKERS: \nIvo Ugrina (dr.sc.\, NVTEH / University of Split)\nNeven Vučinić (Senior System Engineer\, NVTEH)\nSiniša Valentić (CEO\, Hexis)\nIvan Ivakić (Lead Developer; Hexis)\nDomagoj Radovčić (Senior Developer\, Hexis)\nNikola Kostrenčić (Development Center Manager\, Coadria)\nEdi Grbac (Development Center Manager\, Coadria)\nVjeran Tuhtan (Senior Developer\, Coadria)\nNick Larsen (Vice President\, Big Data & Analytics\, Coadria)\nDamjan Subotić (Senior BI developer\, Coadria)\nLuka Kladarić (Senior Software Engineer\, Freelancer)
URL:http://superfounders.org/events/amazon-web-services-conference-rijeka/
CATEGORIES:Conference
ATTACH;FMTTYPE=image/png:http://superfounders.org/wp-content/uploads/2017/10/aws-adria.png
END:VEVENT
END:VCALENDAR