BEGIN:VCALENDAR
VERSION:2.0
PRODID:-//Superfounders - ECPv5.2.0//NONSGML v1.0//EN
CALSCALE:GREGORIAN
METHOD:PUBLISH
X-WR-CALNAME:Superfounders
X-ORIGINAL-URL:http://superfounders.org
X-WR-CALDESC:Events for Superfounders
BEGIN:VTIMEZONE
TZID:UTC
BEGIN:STANDARD
TZOFFSETFROM:+0000
TZOFFSETTO:+0000
TZNAME:UTC
DTSTART:20170101T000000
END:STANDARD
END:VTIMEZONE
BEGIN:VEVENT
DTSTART;VALUE=DATE:20170526
DTEND;VALUE=DATE:20170528
DTSTAMP:20260421T205152
CREATED:20170228T133916Z
LAST-MODIFIED:20170228T134004Z
UID:23892-1495756800-1495929599@superfounders.org
SUMMARY:Albanian Skills competition Tirana 2017
DESCRIPTION:Save the date! The 3rd edition of AlbanianSkills comes with new competitions and many new attractions. AlbanianSkills 2017 takes place on two days and in different locations. Stay tuned\, many cool surprises await you! Call for applications for the competitions will be opened in March 17!
URL:http://superfounders.org/events/albanian-skills-competition-tirana-2017/
LOCATION:Tirana\, Albania
CATEGORIES:Conference
ATTACH;FMTTYPE=image/jpeg:http://superfounders.org/wp-content/uploads/2017/02/16473307_1745307452162152_6609971562087845452_n.jpg
END:VEVENT
END:VCALENDAR