BEGIN:VCALENDAR
VERSION:2.0
PRODID:-//Superfounders - ECPv5.2.0//NONSGML v1.0//EN
CALSCALE:GREGORIAN
METHOD:PUBLISH
X-WR-CALNAME:Superfounders
X-ORIGINAL-URL:http://superfounders.org
X-WR-CALDESC:Events for Superfounders
BEGIN:VTIMEZONE
TZID:UTC
BEGIN:STANDARD
TZOFFSETFROM:+0000
TZOFFSETTO:+0000
TZNAME:UTC
DTSTART:20180101T000000
END:STANDARD
END:VTIMEZONE
BEGIN:VEVENT
DTSTART;TZID=UTC:20180523T190000
DTEND;TZID=UTC:20180523T220000
DTSTAMP:20260421T203109
CREATED:20180511T064805Z
LAST-MODIFIED:20180511T071945Z
UID:26532-1527102000-1527112800@superfounders.org
SUMMARY:Add bitcoin to your business - Athens
DESCRIPTION:Workshop about how to accept cryptocurrencies (Bitcoin) in your business. What will you learn?\n– advantages of accepting cryptocurrencies in any business\n– how to accept crypto if you sell high turnover – low price products (eg. restaurants\, tourist shops)\n– how to accept crypto if you sell low turnover – high price products (cars\, real estate\, etc)\n– what to beware of – accounting\, anti-money laundering etc\n– how to use this to your PR advantage\n– discussion on how to implement it in audience’s own businessesJaroslav Kovac is the organizer of blockchain conferences Satoshitalks that attract hundreds of people and the founder of HOME Hunters\, a successful real estate company in Prague\, Czech Republic.\nHOME Hunters were the first company in the Europe and second one in the world to sell a property for bitcoins. This process consists of many important steps and Jaroslav will come and share his experience with us in an interactive workshop dealing with the issue of accepting cryptocurrencies in the business environment.\nCome and learn from the best and catch the cryptocurrency wave in time before it goes mainstream.
URL:http://superfounders.org/events/add-bitcoin-to-your-business-athens/
LOCATION:The Cube Athens\, Klisovis 8\, Athens\, 106 77
CATEGORIES:Workshop
ATTACH;FMTTYPE=image/jpeg:http://superfounders.org/wp-content/uploads/2018/05/cryptpcurency.jpg
END:VEVENT
END:VCALENDAR