BEGIN:VCALENDAR
VERSION:2.0
PRODID:-//Superfounders - ECPv5.2.0//NONSGML v1.0//EN
CALSCALE:GREGORIAN
METHOD:PUBLISH
X-WR-CALNAME:Superfounders
X-ORIGINAL-URL:http://superfounders.org
X-WR-CALDESC:Events for Superfounders
BEGIN:VTIMEZONE
TZID:UTC
BEGIN:STANDARD
TZOFFSETFROM:+0000
TZOFFSETTO:+0000
TZNAME:UTC
DTSTART:20160101T000000
END:STANDARD
END:VTIMEZONE
BEGIN:VEVENT
DTSTART;TZID=UTC:20161015T080000
DTEND;TZID=UTC:20161016T170000
DTSTAMP:20260421T210307
CREATED:20161010T112558Z
LAST-MODIFIED:20161010T112558Z
UID:21909-1476518400-1476637200@superfounders.org
SUMMARY:2ND Adriatic Fintech Hackathon Ljubljana 2016
DESCRIPTION:Hackathon is an event for developers and other IT professionals that requires intensive cooperation and team work to develop new and innovative solutions in a certain topic within an extremely limited time frame.\nFinTech is a growing industry consisting of companies using technology and technological innovation to improve current financial services. Our partners will challenge you to develop innovative hacks in different FinTech areas.\nDo you have an innovative idea on how technology could transform current financial services? Do not hesitate\, create your team and apply! You can win one of the many prizes from our award fund.
URL:http://superfounders.org/events/2nd-adriatic-fintech-hackathon-ljubljana-2016/
LOCATION:ABC hub\, Tržaška 118\, Ljubljana \, 1000 \, Slovenia
CATEGORIES:Conference
ATTACH;FMTTYPE=image/jpeg:http://superfounders.org/wp-content/uploads/2016/10/Adriatic-Fintech-Hackathon.JPG.jpg
ORGANIZER;CN="":MAILTO:1000 
END:VEVENT
END:VCALENDAR