BEGIN:VCALENDAR
VERSION:2.0
PRODID:-//Superfounders - ECPv5.2.0//NONSGML v1.0//EN
CALSCALE:GREGORIAN
METHOD:PUBLISH
X-WR-CALNAME:Superfounders
X-ORIGINAL-URL:http://superfounders.org
X-WR-CALDESC:Events for Superfounders
BEGIN:VTIMEZONE
TZID:UTC
BEGIN:STANDARD
TZOFFSETFROM:+0000
TZOFFSETTO:+0000
TZNAME:UTC
DTSTART:20170101T000000
END:STANDARD
END:VTIMEZONE
BEGIN:VEVENT
DTSTART;VALUE=DATE:20170512
DTEND;VALUE=DATE:20170513
DTSTAMP:20260421T171658
CREATED:20170322T103221Z
LAST-MODIFIED:20170322T103429Z
UID:24146-1494547200-1494633599@superfounders.org
SUMMARY:SFERAKON 2017 Zagreb
DESCRIPTION:What is SFeraKon?\nSFeraKon is a science fiction convention held every year in the spring takes place in Zagreb. SFeraKon the first convention in the region\, which continues the tradition of fairs of science fiction\, of which the first was held in 1977. Convention name SFeraKon received in 1983 and since then is maintained without interruption. SFeraKon also hosted two European science fiction convention (Eurocon): 1986 under the name Ballcon and 2012 under the name of Contact. \nWe’ve got 39 SFeraKon! The Company re-organized SFera greatest sci-fi convention in Croatia. As always\, you can expect a lot of lectures\, workshops\, games\, panels\, stalls\, prize games\, cosplay and more.\nThis year we do not have the official topic\, but we chose a retro eighties as a motif that will be routed throughout the convention.\nWith this in mind\, we invite all interested to apply for the program point\, stand or cosplay and their presence enrich this year’s SFeraKon. Registration forms can be found on the links: \nPrijava programa \n \nŠtandovi – prijave
URL:http://superfounders.org/events/24146/
LOCATION:FER\, Unska 3\, Zagreb\, Croatia (Local Name: Hrvatska)
CATEGORIES:Conference
ATTACH;FMTTYPE=image/png:http://superfounders.org/wp-content/uploads/2017/03/16711520_1353786717976648_8196031631920668854_n.png
END:VEVENT
END:VCALENDAR