BEGIN:VCALENDAR
VERSION:2.0
PRODID:-//Superfounders - ECPv5.2.0//NONSGML v1.0//EN
CALSCALE:GREGORIAN
METHOD:PUBLISH
X-WR-CALNAME:Superfounders
X-ORIGINAL-URL:http://superfounders.org
X-WR-CALDESC:Events for Superfounders
BEGIN:VTIMEZONE
TZID:UTC
BEGIN:STANDARD
TZOFFSETFROM:+0000
TZOFFSETTO:+0000
TZNAME:UTC
DTSTART:20170101T000000
END:STANDARD
END:VTIMEZONE
BEGIN:VEVENT
DTSTART;TZID=UTC:20170519T180000
DTEND;TZID=UTC:20170519T210000
DTSTAMP:20260422T023151
CREATED:20170503T082122Z
LAST-MODIFIED:20170503T082638Z
UID:24538-1495216800-1495227600@superfounders.org
SUMMARY:1st Fably Storytelling event Athens
DESCRIPTION:To Fably is a different Startup active in the so-called area of creative industries . \nThe team consists of five students from the Athens University of Economics and the incubator ACEin \, which has set out to do us to we create stories  and to read more on the use of technology. \nThe Fably is a  story creation platform\,  a project that gives space to the stories enthusiasts and generally to people who like to write\, to create or to read and allows everyone to write and share little stories via web and via Smartphones . \nThe effort of  Konstantinou Kopanidi (Founder\, CEO\, Backend developer) \, the  Socrates Charisi (Co-Founder\, COO\, Creative Director)\, of  George Mo  (Co-Founder\, Front-end Developer)\, the  Athanasias Nicolaidou (Event organizing\, Marketing & Business) and  Alkiviadi Petrocheilo bedrooms  (Research & Development\, Animation Developer) will open to the general public in the first major event in public of Pl. Constitution.  \nThis event comes to present technology tools (and more) that can make the creation stories easier\, better and more fun. \nAt this event\, attendees will have the opportunity:\n– to come into contact with the first Chat-Bot creating and reading stories to the world.\n– To learn secrets and tips for a great story\, with the help of Frapress . gr \, the Media Neoperativa and a creative mystical writer.\n– To learn how to make more known their stories\, to the right audience\, through Fably.\n– To get in touch with all future innovative tools to create stories that Fably preparing for them.\n– To claim prizes.
URL:http://superfounders.org/events/1st-fably-storytelling-event-athens/
LOCATION:Syntagmatos Public\, Karagiorgi Servias 1 \, Athens\, 11854\, Greece
CATEGORIES:meetup
ATTACH;FMTTYPE=image/png:http://superfounders.org/wp-content/uploads/2017/05/facebook_event_cover_small.png
END:VEVENT
END:VCALENDAR